BEGIN:VCALENDAR
VERSION:2.0
PRODID:-//Before U Kick - ECPv6.15.20//NONSGML v1.0//EN
CALSCALE:GREGORIAN
METHOD:PUBLISH
X-WR-CALNAME:Before U Kick
X-ORIGINAL-URL:https://www.beforeukick.com
X-WR-CALDESC:Events for Before U Kick
REFRESH-INTERVAL;VALUE=DURATION:PT1H
X-Robots-Tag:noindex
X-PUBLISHED-TTL:PT1H
BEGIN:VTIMEZONE
TZID:America/New_York
BEGIN:DAYLIGHT
TZOFFSETFROM:-0500
TZOFFSETTO:-0400
TZNAME:EDT
DTSTART:20250309T070000
END:DAYLIGHT
BEGIN:STANDARD
TZOFFSETFROM:-0400
TZOFFSETTO:-0500
TZNAME:EST
DTSTART:20251102T060000
END:STANDARD
BEGIN:DAYLIGHT
TZOFFSETFROM:-0500
TZOFFSETTO:-0400
TZNAME:EDT
DTSTART:20260308T070000
END:DAYLIGHT
BEGIN:STANDARD
TZOFFSETFROM:-0400
TZOFFSETTO:-0500
TZNAME:EST
DTSTART:20261101T060000
END:STANDARD
BEGIN:DAYLIGHT
TZOFFSETFROM:-0500
TZOFFSETTO:-0400
TZNAME:EDT
DTSTART:20270314T070000
END:DAYLIGHT
BEGIN:STANDARD
TZOFFSETFROM:-0400
TZOFFSETTO:-0500
TZNAME:EST
DTSTART:20271107T060000
END:STANDARD
END:VTIMEZONE
BEGIN:VEVENT
DTSTART;TZID=America/New_York:20260426T140000
DTEND;TZID=America/New_York:20260426T160000
DTSTAMP:20260424T070911
CREATED:20260313T134501Z
LAST-MODIFIED:20260313T134501Z
UID:262557-1777212000-1777219200@www.beforeukick.com
SUMMARY:Mini-Camp #1
DESCRIPTION:Sunday April 26th 2026 2:00 – 4:00pm Cost $200 \nSouth County High School 8501 Silverbrook Road Lorton\, VA 22079
URL:https://www.beforeukick.com/event/mini-camp-1-2/
LOCATION:South County High School\, 8501 Silverbrook Road\, Lorton\, VA\, 22079\, United States
GEO:38.7174282;-77.2385395
X-APPLE-STRUCTURED-LOCATION;VALUE=URI;X-ADDRESS=South County High School 8501 Silverbrook Road Lorton VA 22079 United States;X-APPLE-RADIUS=500;X-TITLE=8501 Silverbrook Road:geo:-77.2385395,38.7174282
END:VEVENT
BEGIN:VEVENT
DTSTART;TZID=America/New_York:20260509T090000
DTEND;TZID=America/New_York:20260509T160000
DTSTAMP:20260424T070911
CREATED:20260313T134815Z
LAST-MODIFIED:20260313T134815Z
UID:262559-1778317200-1778342400@www.beforeukick.com
SUMMARY:May 1-Day Camp
DESCRIPTION:Saturday May 9th 9:00 – 1200pm & 1:00 – 4:00pm Cost $300 \nSouth County High School 8501 Silverbrook Road Lorton\, VA 22079
URL:https://www.beforeukick.com/event/may-1-day-camp/
LOCATION:South County High School\, 8501 Silverbrook Road\, Lorton\, VA\, 22079\, United States
GEO:38.7174282;-77.2385395
X-APPLE-STRUCTURED-LOCATION;VALUE=URI;X-ADDRESS=South County High School 8501 Silverbrook Road Lorton VA 22079 United States;X-APPLE-RADIUS=500;X-TITLE=8501 Silverbrook Road:geo:-77.2385395,38.7174282
END:VEVENT
BEGIN:VEVENT
DTSTART;TZID=America/New_York:20260606T090000
DTEND;TZID=America/New_York:20260606T160000
DTSTAMP:20260424T070911
CREATED:20260313T135014Z
LAST-MODIFIED:20260313T135014Z
UID:262561-1780736400-1780761600@www.beforeukick.com
SUMMARY:Combi-Nation Camp
DESCRIPTION:Saturday June 6th 9:00-12:00pm & 1:00-4:00pm Cost $300 \nSouth County High School 8501 Silverbrook Road Lorton\, VA 22079
URL:https://www.beforeukick.com/event/combi-nation-camp-2/
LOCATION:South County High School\, 8501 Silverbrook Road\, Lorton\, VA\, 22079\, United States
GEO:38.7174282;-77.2385395
X-APPLE-STRUCTURED-LOCATION;VALUE=URI;X-ADDRESS=South County High School 8501 Silverbrook Road Lorton VA 22079 United States;X-APPLE-RADIUS=500;X-TITLE=8501 Silverbrook Road:geo:-77.2385395,38.7174282
END:VEVENT
BEGIN:VEVENT
DTSTART;TZID=America/New_York:20260616T100000
DTEND;TZID=America/New_York:20260616T150000
DTSTAMP:20260424T070911
CREATED:20260313T135231Z
LAST-MODIFIED:20260313T135231Z
UID:262563-1781604000-1781622000@www.beforeukick.com
SUMMARY:Tribe Kicking Camp
DESCRIPTION:Tuesday June 16th 10:00am – 3:00pm Cost $300 \nZable Stadium 100 Stadium Drive Williamsburg\, VA 23185
URL:https://www.beforeukick.com/event/tribe-kicking-camp-2/
LOCATION:Zable Stadium\, 100 Stadium Drive\, Williamsburg\, VA\, 23186\, United States
END:VEVENT
BEGIN:VEVENT
DTSTART;TZID=America/New_York:20260620T090000
DTEND;TZID=America/New_York:20260620T120000
DTSTAMP:20260424T070911
CREATED:20260313T135621Z
LAST-MODIFIED:20260313T135621Z
UID:262565-1781946000-1781956800@www.beforeukick.com
SUMMARY:Kick 4 Life
DESCRIPTION:Saturday June 20th 9:00am – 12:00pm Suggested Donation $200 \nSouth County High School 8501 Silverbrook Road Lorton\, VA 22079
URL:https://www.beforeukick.com/event/kick-4-life/
LOCATION:South County High School\, 8501 Silverbrook Road\, Lorton\, VA\, 22079\, United States
GEO:38.7174282;-77.2385395
X-APPLE-STRUCTURED-LOCATION;VALUE=URI;X-ADDRESS=South County High School 8501 Silverbrook Road Lorton VA 22079 United States;X-APPLE-RADIUS=500;X-TITLE=8501 Silverbrook Road:geo:-77.2385395,38.7174282
END:VEVENT
BEGIN:VEVENT
DTSTART;TZID=America/New_York:20260711T090000
DTEND;TZID=America/New_York:20260711T160000
DTSTAMP:20260424T070911
CREATED:20260313T143456Z
LAST-MODIFIED:20260313T143456Z
UID:262567-1783760400-1783785600@www.beforeukick.com
SUMMARY:Pro\, College\, HS Camp
DESCRIPTION:Saturday July 11th 9:00 – 12:00 & 1:00 – 4:00pm Cost $300 \nSouth County High School 8501 Silverbrook Road Lorton\, VA 22079
URL:https://www.beforeukick.com/event/pro-college-hs-camp/
LOCATION:South County High School\, 8501 Silverbrook Road\, Lorton\, VA\, 22079\, United States
GEO:38.7174282;-77.2385395
X-APPLE-STRUCTURED-LOCATION;VALUE=URI;X-ADDRESS=South County High School 8501 Silverbrook Road Lorton VA 22079 United States;X-APPLE-RADIUS=500;X-TITLE=8501 Silverbrook Road:geo:-77.2385395,38.7174282
END:VEVENT
BEGIN:VEVENT
DTSTART;TZID=America/New_York:20260726T140000
DTEND;TZID=America/New_York:20260726T160000
DTSTAMP:20260424T070911
CREATED:20260313T143618Z
LAST-MODIFIED:20260313T143618Z
UID:262569-1785074400-1785081600@www.beforeukick.com
SUMMARY:Mini-Camp #2
DESCRIPTION:Sunday July 26th 2:00 – 4:00pm Cost $200 \nSouth County High School 8501 Silverbrook Road Lorton\, VA 22079
URL:https://www.beforeukick.com/event/mini-camp-2-2/
LOCATION:South County High School\, 8501 Silverbrook Road\, Lorton\, VA\, 22079\, United States
GEO:38.7174282;-77.2385395
X-APPLE-STRUCTURED-LOCATION;VALUE=URI;X-ADDRESS=South County High School 8501 Silverbrook Road Lorton VA 22079 United States;X-APPLE-RADIUS=500;X-TITLE=8501 Silverbrook Road:geo:-77.2385395,38.7174282
END:VEVENT
BEGIN:VEVENT
DTSTART;TZID=America/New_York:20260809T140000
DTEND;TZID=America/New_York:20260809T160000
DTSTAMP:20260424T070911
CREATED:20260313T143733Z
LAST-MODIFIED:20260313T143733Z
UID:262571-1786284000-1786291200@www.beforeukick.com
SUMMARY:Mini-Camp #3
DESCRIPTION:Sunday August 9th 2:00 – 4:00pm Cost $200 \nSouth County High School 8501 Silverbrook Road Lorton\, VA 22079
URL:https://www.beforeukick.com/event/mini-camp-3-2/
LOCATION:South County High School\, 8501 Silverbrook Road\, Lorton\, VA\, 22079\, United States
GEO:38.7174282;-77.2385395
X-APPLE-STRUCTURED-LOCATION;VALUE=URI;X-ADDRESS=South County High School 8501 Silverbrook Road Lorton VA 22079 United States;X-APPLE-RADIUS=500;X-TITLE=8501 Silverbrook Road:geo:-77.2385395,38.7174282
END:VEVENT
BEGIN:VEVENT
DTSTART;TZID=America/New_York:20260823T140000
DTEND;TZID=America/New_York:20260823T160000
DTSTAMP:20260424T070911
CREATED:20260313T143850Z
LAST-MODIFIED:20260313T143850Z
UID:262573-1787493600-1787500800@www.beforeukick.com
SUMMARY:Mini-Camp #4
DESCRIPTION:Sunday August 23rd 2:00 – 4:00pm Cost $200 \nSouth County High School 8501 Silverbrook Road Lorton\, VA 22079
URL:https://www.beforeukick.com/event/mini-camp-4-2/
LOCATION:South County High School\, 8501 Silverbrook Road\, Lorton\, VA\, 22079\, United States
GEO:38.7174282;-77.2385395
X-APPLE-STRUCTURED-LOCATION;VALUE=URI;X-ADDRESS=South County High School 8501 Silverbrook Road Lorton VA 22079 United States;X-APPLE-RADIUS=500;X-TITLE=8501 Silverbrook Road:geo:-77.2385395,38.7174282
END:VEVENT
BEGIN:VEVENT
DTSTART;TZID=America/New_York:20260920T140000
DTEND;TZID=America/New_York:20260920T160000
DTSTAMP:20260424T070911
CREATED:20260313T144027Z
LAST-MODIFIED:20260313T144027Z
UID:262575-1789912800-1789920000@www.beforeukick.com
SUMMARY:Mini-Camp #5
DESCRIPTION:Sunday September 20th 2:00 – 4:00pm Cost $200 \nSouth County High School 8501 Silverbrook Road Lorton\, VA 22079
URL:https://www.beforeukick.com/event/mini-camp-5-2/
LOCATION:South County High School\, 8501 Silverbrook Road\, Lorton\, VA\, 22079\, United States
GEO:38.7174282;-77.2385395
X-APPLE-STRUCTURED-LOCATION;VALUE=URI;X-ADDRESS=South County High School 8501 Silverbrook Road Lorton VA 22079 United States;X-APPLE-RADIUS=500;X-TITLE=8501 Silverbrook Road:geo:-77.2385395,38.7174282
END:VEVENT
BEGIN:VEVENT
DTSTART;TZID=America/New_York:20261011T140000
DTEND;TZID=America/New_York:20261011T160000
DTSTAMP:20260424T070911
CREATED:20260313T144137Z
LAST-MODIFIED:20260313T144137Z
UID:262577-1791727200-1791734400@www.beforeukick.com
SUMMARY:Mini-Camp #6
DESCRIPTION:Sunday October 11th 2:00 – 4:00pm Cost $200 \nSouth County High School 8501 Silverbrook Road Lorton\, VA 22079
URL:https://www.beforeukick.com/event/mini-camp-6-2/
LOCATION:South County High School\, 8501 Silverbrook Road\, Lorton\, VA\, 22079\, United States
GEO:38.7174282;-77.2385395
X-APPLE-STRUCTURED-LOCATION;VALUE=URI;X-ADDRESS=South County High School 8501 Silverbrook Road Lorton VA 22079 United States;X-APPLE-RADIUS=500;X-TITLE=8501 Silverbrook Road:geo:-77.2385395,38.7174282
END:VEVENT
BEGIN:VEVENT
DTSTART;TZID=America/New_York:20261025T140000
DTEND;TZID=America/New_York:20261025T160000
DTSTAMP:20260424T070911
CREATED:20260313T144247Z
LAST-MODIFIED:20260313T144247Z
UID:262579-1792936800-1792944000@www.beforeukick.com
SUMMARY:Mini-Camp #7
DESCRIPTION:Sunday October 25th 2:00 – 4:00pm Cost $200 \nSouth County High School 8501 Silverbrook Road Lorton\, VA 22079
URL:https://www.beforeukick.com/event/mini-camp-7-3/
LOCATION:South County High School\, 8501 Silverbrook Road\, Lorton\, VA\, 22079\, United States
GEO:38.7174282;-77.2385395
X-APPLE-STRUCTURED-LOCATION;VALUE=URI;X-ADDRESS=South County High School 8501 Silverbrook Road Lorton VA 22079 United States;X-APPLE-RADIUS=500;X-TITLE=8501 Silverbrook Road:geo:-77.2385395,38.7174282
END:VEVENT
BEGIN:VEVENT
DTSTART;TZID=America/New_York:20261108T140000
DTEND;TZID=America/New_York:20261108T160000
DTSTAMP:20260424T070911
CREATED:20260313T144419Z
LAST-MODIFIED:20260313T144419Z
UID:262581-1794146400-1794153600@www.beforeukick.com
SUMMARY:Mini-Camp #8
DESCRIPTION:Sunday November 8th 2:00 – 4:00pm Cost $200 \nSouth County High School 8501 Silverbrook Road Lorton\, VA 22079
URL:https://www.beforeukick.com/event/mini-camp-8-2/
LOCATION:South County High School\, 8501 Silverbrook Road\, Lorton\, VA\, 22079\, United States
GEO:38.7174282;-77.2385395
X-APPLE-STRUCTURED-LOCATION;VALUE=URI;X-ADDRESS=South County High School 8501 Silverbrook Road Lorton VA 22079 United States;X-APPLE-RADIUS=500;X-TITLE=8501 Silverbrook Road:geo:-77.2385395,38.7174282
END:VEVENT
END:VCALENDAR